BEGIN:VCALENDAR
VERSION:2.0
PRODID:icalendar-ruby
CALSCALE:GREGORIAN
METHOD:PUBLISH
BEGIN:VEVENT
DTSTAMP:20260422T115746Z
UID:122-218099@brooksefc.com
DTSTART:20260509T010000Z
DTEND:20260509T040000Z
CLASS:PUBLIC
CREATED:20260421T103341
DESCRIPTION:If you are in Grade 6\, you are invited to attend youth for the
  reminder of the youth events for this school year. \nApril 24 - Meet at 
 the church\nMay 1 - Meet at the Church\nMay 8 - Meet at JBS for gym night 
 with the Alliance Church\nMay 8/9 - Change Conference - Sign up under the 
 event - Cost is $90\nMay 15 - Mexico Night - Meet at the church and hear a
 ll about the Mexico Missions trip - all are welcome to attend. \n 
LAST-MODIFIED:20260421T103341
LOCATION:Brooks Evangelical Free Church
SUMMARY:BeFree Youth
URL;VALUE=URI:https://www.brooksefc.com/events/befree-youth--122/2026-05-08
ATTACH;FILENAME=2025-winter-befree-youth.png;FMTTYPE=image/png:https://dq5p
 wpg1q8ru0.cloudfront.net/2026/04/21/16/30/09/222e8dcb-05ca-40e4-b90b-a481c
 bc20f5f/2025-winter-befree-youth.png
END:VEVENT
END:VCALENDAR
