BEGIN:VCALENDAR
VERSION:2.0
PRODID:icalendar-ruby
CALSCALE:GREGORIAN
METHOD:PUBLISH
BEGIN:VEVENT
DTSTAMP:20260422T075559Z
UID:123-218105@brooksefc.com
DTSTART:20260507T203000Z
DTEND:20260508T023000Z
CLASS:PUBLIC
CREATED:20260421T104424
DESCRIPTION:Lodge Services at the Senior's homes\nSunrise Gardens @ 2:30 pm
 \nOrchard Manor @ 6:30 pm\nNewbrook Lodge @ 7:30 pm\nIf you are interested
  in helping Pastor Jeridyn\, pleas eemail him at jeridyn@brooksefc.ca
LAST-MODIFIED:20260421T104424
LOCATION:
SUMMARY:Lodge Services
URL;VALUE=URI:https://www.brooksefc.com/events/lodge-services--123/2026-05-
 07
ATTACH;FILENAME=Lodge-Services.png;FMTTYPE=image/png:https://dq5pwpg1q8ru0.
 cloudfront.net/2026/04/21/16/41/22/a83011aa-19c8-416b-b362-105c6ced1442/Lo
 dge-Services.png
END:VEVENT
END:VCALENDAR
