BEGIN:VCALENDAR
VERSION:2.0
PRODID:icalendar-ruby
CALSCALE:GREGORIAN
METHOD:PUBLISH
BEGIN:VEVENT
DTSTAMP:20260422T075120Z
UID:124-218136@brooksefc.com
DTSTART:20260424T160000Z
DTEND:20260424T173000Z
CLASS:PUBLIC
CREATED:20260421T110620
DESCRIPTION:Moms of preschoolers are welcome to come for an informal mornin
 g of fellowship and encouragement.
LAST-MODIFIED:20260421T110620
LOCATION:Brooks Evangelical Free Church
SUMMARY:Mommy & Me
URL;VALUE=URI:https://www.brooksefc.com/events/mommy-me--124/2026-04-24
ATTACH;FILENAME=fall-2025-Mommy--Me.png;FMTTYPE=image/png:https://dq5pwpg1q
 8ru0.cloudfront.net/2026/04/21/17/06/19/e89875d9-d502-4f9a-a959-82032cd1af
 08/fall-2025-Mommy--Me.png
END:VEVENT
END:VCALENDAR
